BEGIN:VCALENDAR
VERSION:2.0
PRODID:-//Internationale Arbeitsgemeinschaft Mission e.V. - ECPv6.15.12.2//NONSGML v1.0//EN
CALSCALE:GREGORIAN
METHOD:PUBLISH
X-ORIGINAL-URL:https://www.iam-mission.de
X-WR-CALDESC:Veranstaltungen für Internationale Arbeitsgemeinschaft Mission e.V.
REFRESH-INTERVAL;VALUE=DURATION:PT1H
X-Robots-Tag:noindex
X-PUBLISHED-TTL:PT1H
BEGIN:VTIMEZONE
TZID:Europe/Berlin
BEGIN:DAYLIGHT
TZOFFSETFROM:+0100
TZOFFSETTO:+0200
TZNAME:CEST
DTSTART:20250330T010000
END:DAYLIGHT
BEGIN:STANDARD
TZOFFSETFROM:+0200
TZOFFSETTO:+0100
TZNAME:CET
DTSTART:20251026T010000
END:STANDARD
BEGIN:DAYLIGHT
TZOFFSETFROM:+0100
TZOFFSETTO:+0200
TZNAME:CEST
DTSTART:20260329T010000
END:DAYLIGHT
BEGIN:STANDARD
TZOFFSETFROM:+0200
TZOFFSETTO:+0100
TZNAME:CET
DTSTART:20261025T010000
END:STANDARD
BEGIN:DAYLIGHT
TZOFFSETFROM:+0100
TZOFFSETTO:+0200
TZNAME:CEST
DTSTART:20270328T010000
END:DAYLIGHT
BEGIN:STANDARD
TZOFFSETFROM:+0200
TZOFFSETTO:+0100
TZNAME:CET
DTSTART:20271031T010000
END:STANDARD
END:VTIMEZONE
BEGIN:VEVENT
DTSTART;VALUE=DATE:20260202
DTEND;VALUE=DATE:20260304
DTSTAMP:20260420T164651
CREATED:20260120T083845Z
LAST-MODIFIED:20260120T083845Z
UID:2711-1769990400-1772582399@www.iam-mission.de
SUMMARY:Kinder-Programm in Wolfsburg (Stephan Scheifling)
DESCRIPTION:
URL:https://www.iam-mission.de/event/kinder-programm-in-wolfsburg-stephan-scheifling/
LOCATION:Ev.ChristusBrüderGemeinde Wolfsburg\, Oppelner Str. 21\, Wolfsburg\, Niedersachsen\, 38440\, Deutschland
ORGANIZER;CN="Stephan Scheifling":MAILTO:scheifling@iam-mission.de
END:VEVENT
BEGIN:VEVENT
DTSTART;VALUE=DATE:20260208
DTEND;VALUE=DATE:20260312
DTSTAMP:20260420T164651
CREATED:20260120T092217Z
LAST-MODIFIED:20260120T092217Z
UID:2736-1770508800-1773273599@www.iam-mission.de
SUMMARY:Kinder-Bibeltage in Greifswald (Timon Erhardt)
DESCRIPTION:
URL:https://www.iam-mission.de/event/kinder-bibeltage-in-greifswald-timon-erhardt-2/
LOCATION:Kompass-Kids Greifswald\, Marienstraße 22\, Greifswald\, Mecklenburg-Vorpommern\, 17489\, Germany
ORGANIZER;CN="Timon Erhardt":MAILTO:t.erhardt@iam-mission.de
END:VEVENT
BEGIN:VEVENT
DTSTART;TZID=Europe/Berlin:20260222T100000
DTEND;TZID=Europe/Berlin:20260222T123000
DTSTAMP:20260420T164651
CREATED:20260120T075331Z
LAST-MODIFIED:20260120T075331Z
UID:2658-1771754400-1771763400@www.iam-mission.de
SUMMARY:Predigtdienst in Sehnde (Achim Ullrich)
DESCRIPTION:
URL:https://www.iam-mission.de/event/predigtdienst-in-sehnde-achim-ullrich-3/
LOCATION:Bibel-Gemeinde Sehnde\, Zuckerfabriksweg 1\, Sehnde\, 31319
ORGANIZER;CN="Achim Ullrich":MAILTO:ullrich@iam-mission.de
END:VEVENT
BEGIN:VEVENT
DTSTART;TZID=Europe/Berlin:20260222T100000
DTEND;TZID=Europe/Berlin:20260222T143000
DTSTAMP:20260420T164651
CREATED:20260120T082536Z
LAST-MODIFIED:20260120T082536Z
UID:2690-1771754400-1771770600@www.iam-mission.de
SUMMARY:Predigtdienst in Balingen-Weilstetten (Sieghard Pfeifle)
DESCRIPTION:
URL:https://www.iam-mission.de/event/predigtdienst-in-balingen-weilstetten-sieghard-pfeifle/
LOCATION:Freie biblische Versammlung\, Tieringer Str. 2\, Balingen-Weilstetten\, Baden-Württemberg\, 72336\, Deutschland
END:VEVENT
BEGIN:VEVENT
DTSTART;TZID=Europe/Berlin:20260222T103000
DTEND;TZID=Europe/Berlin:20260222T130000
DTSTAMP:20260420T164651
CREATED:20260120T080105Z
LAST-MODIFIED:20260120T080105Z
UID:2667-1771756200-1771765200@www.iam-mission.de
SUMMARY:Predigt in Wipperfürth (Tobias Müller)
DESCRIPTION:
URL:https://www.iam-mission.de/event/predigt-in-wipperfuerth-tobias-mueller-7/
LOCATION:Evangelisch-Freikirchliche Gemeinde Wipperfürth\, Ostlandstr. 1\, Wipperfürth\, NRW\, 51688\, Deutschland
ORGANIZER;CN="Tobias M%C3%BCller":MAILTO:mueller@iam-mission.de
END:VEVENT
END:VCALENDAR