BEGIN:VCALENDAR
VERSION:2.0
PRODID:-//Internationale Arbeitsgemeinschaft Mission e.V. - ECPv6.15.12.2//NONSGML v1.0//EN
CALSCALE:GREGORIAN
METHOD:PUBLISH
X-ORIGINAL-URL:https://www.iam-mission.de
X-WR-CALDESC:Veranstaltungen für Internationale Arbeitsgemeinschaft Mission e.V.
REFRESH-INTERVAL;VALUE=DURATION:PT1H
X-Robots-Tag:noindex
X-PUBLISHED-TTL:PT1H
BEGIN:VTIMEZONE
TZID:Europe/Berlin
BEGIN:DAYLIGHT
TZOFFSETFROM:+0100
TZOFFSETTO:+0200
TZNAME:CEST
DTSTART:20250330T010000
END:DAYLIGHT
BEGIN:STANDARD
TZOFFSETFROM:+0200
TZOFFSETTO:+0100
TZNAME:CET
DTSTART:20251026T010000
END:STANDARD
BEGIN:DAYLIGHT
TZOFFSETFROM:+0100
TZOFFSETTO:+0200
TZNAME:CEST
DTSTART:20260329T010000
END:DAYLIGHT
BEGIN:STANDARD
TZOFFSETFROM:+0200
TZOFFSETTO:+0100
TZNAME:CET
DTSTART:20261025T010000
END:STANDARD
BEGIN:DAYLIGHT
TZOFFSETFROM:+0100
TZOFFSETTO:+0200
TZNAME:CEST
DTSTART:20270328T010000
END:DAYLIGHT
BEGIN:STANDARD
TZOFFSETFROM:+0200
TZOFFSETTO:+0100
TZNAME:CET
DTSTART:20271031T010000
END:STANDARD
END:VTIMEZONE
BEGIN:VEVENT
DTSTART;VALUE=DATE:20260613
DTEND;VALUE=DATE:20260614
DTSTAMP:20260422T121303
CREATED:20260309T130349Z
LAST-MODIFIED:20260309T130349Z
UID:2790-1781308800-1781395199@www.iam-mission.de
SUMMARY:Stadtfest in Wiefelsstede (A. u. M. Ullrich)
DESCRIPTION:
URL:https://www.iam-mission.de/event/stadtfest-in-wiefelsstede-a-u-m-ullrich/
LOCATION:Wiefelstede\, Wiefelstede\, Niedersachsen\, 26215\, Germany
ORGANIZER;CN="Achim Ullrich":MAILTO:ullrich@iam-mission.de
END:VEVENT
BEGIN:VEVENT
DTSTART;TZID=Europe/Berlin:20260613T100000
DTEND;TZID=Europe/Berlin:20260613T123000
DTSTAMP:20260422T121303
CREATED:20260309T140937Z
LAST-MODIFIED:20260309T140937Z
UID:2882-1781344800-1781353800@www.iam-mission.de
SUMMARY:Tauf-Gottesdienst in Erfurt (Michael Sia)
DESCRIPTION:
URL:https://www.iam-mission.de/event/tauf-gottesdienst-in-erfurt-michael-sia-2/
LOCATION:Internationale Missionsgemeinde Erfurt\, Kartäuser Str. 11\, Erfurt\, Thüringen\, 99084\, Deutschland
ORGANIZER;CN="Michael Sia":MAILTO:m.sia@iam-mission.de
END:VEVENT
END:VCALENDAR