BEGIN:VCALENDAR
VERSION:2.0
PRODID:-//Internationale Arbeitsgemeinschaft Mission e.V. - ECPv6.15.12.2//NONSGML v1.0//EN
CALSCALE:GREGORIAN
METHOD:PUBLISH
X-ORIGINAL-URL:https://www.iam-mission.de
X-WR-CALDESC:Veranstaltungen für Internationale Arbeitsgemeinschaft Mission e.V.
REFRESH-INTERVAL;VALUE=DURATION:PT1H
X-Robots-Tag:noindex
X-PUBLISHED-TTL:PT1H
BEGIN:VTIMEZONE
TZID:Europe/Berlin
BEGIN:DAYLIGHT
TZOFFSETFROM:+0100
TZOFFSETTO:+0200
TZNAME:CEST
DTSTART:20250330T010000
END:DAYLIGHT
BEGIN:STANDARD
TZOFFSETFROM:+0200
TZOFFSETTO:+0100
TZNAME:CET
DTSTART:20251026T010000
END:STANDARD
BEGIN:DAYLIGHT
TZOFFSETFROM:+0100
TZOFFSETTO:+0200
TZNAME:CEST
DTSTART:20260329T010000
END:DAYLIGHT
BEGIN:STANDARD
TZOFFSETFROM:+0200
TZOFFSETTO:+0100
TZNAME:CET
DTSTART:20261025T010000
END:STANDARD
BEGIN:DAYLIGHT
TZOFFSETFROM:+0100
TZOFFSETTO:+0200
TZNAME:CEST
DTSTART:20270328T010000
END:DAYLIGHT
BEGIN:STANDARD
TZOFFSETFROM:+0200
TZOFFSETTO:+0100
TZNAME:CET
DTSTART:20271031T010000
END:STANDARD
END:VTIMEZONE
BEGIN:VEVENT
DTSTART;TZID=Europe/Berlin:20260419T103000
DTEND;TZID=Europe/Berlin:20260419T123000
DTSTAMP:20260420T121437
CREATED:20260309T132532Z
LAST-MODIFIED:20260309T132532Z
UID:2825-1776594600-1776601800@www.iam-mission.de
SUMMARY:Predigtdienst in EFG-Wipperfürth (Tobias Müller)
DESCRIPTION:
URL:https://www.iam-mission.de/event/predigtdienst-in-efg-wipperfuerth-tobias-mueller-3/
LOCATION:Evangelisch-Freikirchliche Gemeinde Wipperfürth\, Ostlandstr. 1\, Wipperfürth\, NRW\, 51688\, Deutschland
ORGANIZER;CN="Tobias M%C3%BCller":MAILTO:mueller@iam-mission.de
END:VEVENT
BEGIN:VEVENT
DTSTART;TZID=Europe/Berlin:20260419T100000
DTEND;TZID=Europe/Berlin:20260419T123000
DTSTAMP:20260420T121437
CREATED:20260309T135557Z
LAST-MODIFIED:20260309T135557Z
UID:2861-1776592800-1776601800@www.iam-mission.de
SUMMARY:Gottesdienst in Freien Evangelikalen Gemeinde Göppingen (Sieghard Pfeifle)
DESCRIPTION:
URL:https://www.iam-mission.de/event/gottesdienst-in-freien-evangelikalen-gemeinde-goeppingen-sieghard-pfeifle/
LOCATION:Freie Gemeinde Göppingen\, Jahnstraße 144\, Göppingen\, Baden-Württemberg\, 73037\, Deutschland
ORGANIZER;CN="Sieghard Pfeifle":MAILTO:pfeifle@iam-mission.de
END:VEVENT
BEGIN:VEVENT
DTSTART;VALUE=DATE:20260418
DTEND;VALUE=DATE:20260419
DTSTAMP:20260420T121437
CREATED:20260309T125037Z
LAST-MODIFIED:20260309T125037Z
UID:2772-1776470400-1776556799@www.iam-mission.de
SUMMARY:Seminar über Impulsbewältigungsstrategien im Blick auf unserem Umgang mit Wut (A. u. M Ullrich)
DESCRIPTION:
URL:https://www.iam-mission.de/event/seminar-ueber-impulsbewaeltigungsstrategien-im-blick-auf-unserem-umgang-mit-wut-a-u-m-ullrich/
LOCATION:Bibel-Gemeinde Sehnde\, Zuckerfabriksweg 1\, Sehnde\, 31319
ORGANIZER;CN="Achim Ullrich":MAILTO:ullrich@iam-mission.de
END:VEVENT
BEGIN:VEVENT
DTSTART;TZID=Europe/Berlin:20260417T190000
DTEND;TZID=Europe/Berlin:20260417T213000
DTSTAMP:20260420T121437
CREATED:20260309T140317Z
LAST-MODIFIED:20260309T140317Z
UID:2873-1776452400-1776461400@www.iam-mission.de
SUMMARY:Jugendstunde im Osnabrücker Nordland (Maik Bienk)
DESCRIPTION:
URL:https://www.iam-mission.de/event/jugendstunde-im-osnabruecker-nordland-maik-bienk-2/
LOCATION:Osnabrücker Nordland\, Osnabrücker Nordland\, Niedersachsen\, Germany
END:VEVENT
BEGIN:VEVENT
DTSTART;TZID=Europe/Berlin:20260417T190000
DTEND;TZID=Europe/Berlin:20260417T210000
DTSTAMP:20260420T121437
CREATED:20260309T124849Z
LAST-MODIFIED:20260309T125124Z
UID:2770-1776452400-1776459600@www.iam-mission.de
SUMMARY:Frauenabend in Bibel-Gemeinde Sehnde (Monika Ullrich)
DESCRIPTION:
URL:https://www.iam-mission.de/event/frauenabend-in-bibel-gemeinde-sehnde-monika-ullrich/
LOCATION:Bibel-Gemeinde Sehnde\, Zuckerfabriksweg 1\, Sehnde\, 31319
ORGANIZER;CN="Achim Ullrich":MAILTO:ullrich@iam-mission.de
END:VEVENT
BEGIN:VEVENT
DTSTART;TZID=Europe/Berlin:20260415T190000
DTEND;TZID=Europe/Berlin:20260415T213000
DTSTAMP:20260420T121437
CREATED:20260309T135046Z
LAST-MODIFIED:20260309T135046Z
UID:2853-1776279600-1776288600@www.iam-mission.de
SUMMARY:Ältesten-Schulung in Balingen (Sieghard Pfeifle)
DESCRIPTION:
URL:https://www.iam-mission.de/event/aeltesten-schulung-in-balingen-sieghard-pfeifle/
LOCATION:Christliche Gemeinde Balingen-Endingen\, Reumorgenweg 8\, Balingen-Endingen\, Baden-Württemberg\, 72336\, Deutschland
ORGANIZER;CN="Sieghard Pfeifle":MAILTO:pfeifle@iam-mission.de
END:VEVENT
BEGIN:VEVENT
DTSTART;TZID=Europe/Berlin:20260415T190000
DTEND;TZID=Europe/Berlin:20260415T210000
DTSTAMP:20260420T121437
CREATED:20260309T131907Z
LAST-MODIFIED:20260309T131907Z
UID:2811-1776279600-1776286800@www.iam-mission.de
SUMMARY:Bibel-Entdeckerkreis Ascheberg-Herbern (Tobias Müller)
DESCRIPTION:
URL:https://www.iam-mission.de/event/bibel-entdeckerkreis-ascheberg-herbern-tobias-mueller/
LOCATION:Release-Fachklinik Ascheberg-Herbern\, Merschstraße 49\, Ascheberg-Herbern\, NRW\, 59387\, Germany
ORGANIZER;CN="Tobias M%C3%BCller":MAILTO:mueller@iam-mission.de
END:VEVENT
BEGIN:VEVENT
DTSTART;TZID=Europe/Berlin:20260412T100000
DTEND;TZID=Europe/Berlin:20260412T123000
DTSTAMP:20260420T121437
CREATED:20260309T130926Z
LAST-MODIFIED:20260309T130926Z
UID:2800-1775988000-1775997000@www.iam-mission.de
SUMMARY:Familiengottesdienst (Stephan Scheifling)
DESCRIPTION:
URL:https://www.iam-mission.de/event/familiengottesdienst-stephan-scheifling/
LOCATION:Evangelische Freikirche Preußisch Oldendorf\, Kirchstr. 4\, Preußisch- Oldendorf\, NRW\, 32361\, Deutschland
ORGANIZER;CN="Stephan Scheifling":MAILTO:scheifling@iam-mission.de
END:VEVENT
BEGIN:VEVENT
DTSTART;TZID=Europe/Berlin:20260410T190000
DTEND;TZID=Europe/Berlin:20260410T213000
DTSTAMP:20260420T121437
CREATED:20260309T140223Z
LAST-MODIFIED:20260309T140223Z
UID:2870-1775847600-1775856600@www.iam-mission.de
SUMMARY:Jugendstunde im Osnabrücker Nordland (Maik Bienk)
DESCRIPTION:
URL:https://www.iam-mission.de/event/jugendstunde-im-osnabruecker-nordland-maik-bienk/
LOCATION:Osnabrücker Nordland\, Osnabrücker Nordland\, Niedersachsen\, Germany
END:VEVENT
BEGIN:VEVENT
DTSTART;VALUE=DATE:20260408
DTEND;VALUE=DATE:20260413
DTSTAMP:20260420T121437
CREATED:20260309T133623Z
LAST-MODIFIED:20260309T133623Z
UID:2837-1775606400-1776038399@www.iam-mission.de
SUMMARY:Reisedienst in Lörrach (Ralf Steinhart)
DESCRIPTION:
URL:https://www.iam-mission.de/event/reisedienst-in-loerrach-ralf-steinhart/
LOCATION:Thüringen
ORGANIZER;CN="Ralf Steinhart":MAILTO:steinhart@iam-mission.de
END:VEVENT
BEGIN:VEVENT
DTSTART;VALUE=DATE:20260408
DTEND;VALUE=DATE:20260413
DTSTAMP:20260420T121437
CREATED:20260309T130634Z
LAST-MODIFIED:20260309T130758Z
UID:2795-1775606400-1776038399@www.iam-mission.de
SUMMARY:Kids-Mobil in Aurich (Stephan Scheifling)
DESCRIPTION:
URL:https://www.iam-mission.de/event/kids-mobil-in-aurich-achim-ullrich-2/
LOCATION:Evangelische Freikirche Preußisch Oldendorf\, Kirchstr. 4\, Preußisch- Oldendorf\, NRW\, 32361\, Deutschland
ORGANIZER;CN="Stephan Scheifling":MAILTO:scheifling@iam-mission.de
END:VEVENT
BEGIN:VEVENT
DTSTART;TZID=Europe/Berlin:20260405T100000
DTEND;TZID=Europe/Berlin:20260419T123000
DTSTAMP:20260420T121437
CREATED:20260309T134439Z
LAST-MODIFIED:20260309T134936Z
UID:2848-1775383200-1776601800@www.iam-mission.de
SUMMARY:Predigtdienst in Tübingen (Sieghard Pfeifle)
DESCRIPTION:
URL:https://www.iam-mission.de/event/online-gebetstreffen-annegret-schumann-2/
LOCATION:Tübingen\, Tübingen\, Baden-Württemberg\, 72070\, Germany
ORGANIZER;CN="Sieghard Pfeifle":MAILTO:pfeifle@iam-mission.de
END:VEVENT
BEGIN:VEVENT
DTSTART;TZID=Europe/Berlin:20260404T170000
DTEND;TZID=Europe/Berlin:20260404T210000
DTSTAMP:20260420T121437
CREATED:20260309T140811Z
LAST-MODIFIED:20260309T140811Z
UID:2880-1775322000-1775336400@www.iam-mission.de
SUMMARY:Osterfeuer für die Kompass-Kids Greifswald (Timon Erhardt)
DESCRIPTION:
URL:https://www.iam-mission.de/event/osterfeuer-fuer-die-kompass-kids-greifswald-timon-erhardt/
LOCATION:Kompass-Kids Greifswald\, Marienstraße 22\, Greifswald\, Mecklenburg-Vorpommern\, 17489\, Germany
ORGANIZER;CN="Timon Erhardt":MAILTO:t.erhardt@iam-mission.de
END:VEVENT
BEGIN:VEVENT
DTSTART;TZID=Europe/Berlin:20260401T190000
DTEND;TZID=Europe/Berlin:20260401T210000
DTSTAMP:20260420T121437
CREATED:20260309T131943Z
LAST-MODIFIED:20260309T131943Z
UID:2813-1775070000-1775077200@www.iam-mission.de
SUMMARY:Bibel-Entdeckerkreis Ascheberg-Herbern (Tobias Müller)
DESCRIPTION:
URL:https://www.iam-mission.de/event/bibel-entdeckerkreis-ascheberg-herbern-tobias-mueller-2/
LOCATION:Release-Fachklinik Ascheberg-Herbern\, Merschstraße 49\, Ascheberg-Herbern\, NRW\, 59387\, Germany
ORGANIZER;CN="Tobias M%C3%BCller":MAILTO:mueller@iam-mission.de
END:VEVENT
BEGIN:VEVENT
DTSTART;TZID=Europe/Berlin:20260329T143000
DTEND;TZID=Europe/Berlin:20260329T163000
DTSTAMP:20260420T121437
CREATED:20260120T080712Z
LAST-MODIFIED:20260120T080712Z
UID:2674-1774794600-1774801800@www.iam-mission.de
SUMMARY:Predigtdienst in Herne-Börnig (Tobias Müller)
DESCRIPTION:
URL:https://www.iam-mission.de/event/predigtdienst-in-herne-boernig-tobias-mueller/
LOCATION:Ev. luth. Gebetsgemeinschaft Herne-Börnig\, Vellwig Str. 8\, Herne\, NRW\, 44628
ORGANIZER;CN="Tobias M%C3%BCller":MAILTO:mueller@iam-mission.de
END:VEVENT
BEGIN:VEVENT
DTSTART;TZID=Europe/Berlin:20260328T080000
DTEND;TZID=Europe/Berlin:20260328T170000
DTSTAMP:20260420T121437
CREATED:20260120T075932Z
LAST-MODIFIED:20260120T075932Z
UID:2665-1774684800-1774717200@www.iam-mission.de
SUMMARY:Kinder-Erlebnis-Programm in Lübbecke (Achim Ullrich)
DESCRIPTION:
URL:https://www.iam-mission.de/event/kinder-erlebnis-programm-in-luebbecke-achim-ullrich/
LOCATION:Lübbecke\, Lübbecke
ORGANIZER;CN="Achim Ullrich":MAILTO:ullrich@iam-mission.de
END:VEVENT
BEGIN:VEVENT
DTSTART;VALUE=DATE:20260327
DTEND;VALUE=DATE:20260330
DTSTAMP:20260420T121437
CREATED:20260120T091319Z
LAST-MODIFIED:20260120T091319Z
UID:2729-1774569600-1774828799@www.iam-mission.de
SUMMARY:Gottesdienst und Evangelisation in Hamburg (Maik Brunokowski)
DESCRIPTION:
URL:https://www.iam-mission.de/event/gottesdienst-und-evangelisation-in-hamburg-maik-brunokowski/
LOCATION:Hamburg
END:VEVENT
BEGIN:VEVENT
DTSTART;VALUE=DATE:20260326
DTEND;VALUE=DATE:20260328
DTSTAMP:20260420T121437
CREATED:20260120T084057Z
LAST-MODIFIED:20260120T084057Z
UID:2715-1774483200-1774655999@www.iam-mission.de
SUMMARY:Kinderprogramm in Sandkrug (Stephan Scheifling)
DESCRIPTION:
URL:https://www.iam-mission.de/event/kinderprogramm-in-sandkrug-stephan-scheifling/
LOCATION:Sandkrug\, Ludwig-Erhard-Straße 2\, Hatten\, Niedersachsen\, 26209\, Germany
ORGANIZER;CN="Stephan Scheifling":MAILTO:scheifling@iam-mission.de
END:VEVENT
BEGIN:VEVENT
DTSTART;VALUE=DATE:20260324
DTEND;VALUE=DATE:20260325
DTSTAMP:20260420T121437
CREATED:20260120T081433Z
LAST-MODIFIED:20260120T081433Z
UID:2682-1774310400-1774396799@www.iam-mission.de
SUMMARY:LKW-Einsatz auf Autobahnrastplätzen (Ralf Steinhart)
DESCRIPTION:
URL:https://www.iam-mission.de/event/lkw-einsatz-auf-autobahnrastplaetzen-ralf-steinhart/
LOCATION:Autobahnrastplätze im Umkreis Olpe
ORGANIZER;CN="Ralf Steinhart":MAILTO:steinhart@iam-mission.de
END:VEVENT
BEGIN:VEVENT
DTSTART;TZID=Europe/Berlin:20260322T103000
DTEND;TZID=Europe/Berlin:20260322T130000
DTSTAMP:20260420T121437
CREATED:20260120T080623Z
LAST-MODIFIED:20260120T080623Z
UID:2672-1774175400-1774184400@www.iam-mission.de
SUMMARY:Predigtdienst in Wipperfürth (Tobias Müller)
DESCRIPTION:
URL:https://www.iam-mission.de/event/predigtdienst-in-wipperfuerth-tobias-mueller-4/
LOCATION:Evangelisch-Freikirchliche Gemeinde Wipperfürth\, Ostlandstr. 1\, Wipperfürth\, NRW\, 51688\, Deutschland
ORGANIZER;CN="Tobias M%C3%BCller":MAILTO:mueller@iam-mission.de
END:VEVENT
BEGIN:VEVENT
DTSTART;TZID=Europe/Berlin:20260322T100000
DTEND;TZID=Europe/Berlin:20260322T120000
DTSTAMP:20260420T121437
CREATED:20260120T083115Z
LAST-MODIFIED:20260120T083115Z
UID:2698-1774173600-1774180800@www.iam-mission.de
SUMMARY:Gottesdienst in der Christlichen Gemeinde Reutlingen (Sieghard Pfeifle)
DESCRIPTION:
URL:https://www.iam-mission.de/event/gottesdienst-in-der-christlichen-gemeinde-reutlingen-sieghard-pfeifle/
LOCATION:EFG Reutlingen\, Marie-Curie-Str. 33\, Reutlingen\, Baden-Württemberg\, 72760\, Deutschland
ORGANIZER;CN="Sieghard Pfeifle":MAILTO:pfeifle@iam-mission.de
END:VEVENT
BEGIN:VEVENT
DTSTART;VALUE=DATE:20260321
DTEND;VALUE=DATE:20260322
DTSTAMP:20260420T121437
CREATED:20260120T083943Z
LAST-MODIFIED:20260120T083943Z
UID:2713-1774051200-1774137599@www.iam-mission.de
SUMMARY:Kinder-Mitarbeiterschulung in Paderborn (Stephan Scheifling)
DESCRIPTION:
URL:https://www.iam-mission.de/event/kinder-mitarbeiterschulung-in-paderborn-stephan-scheifling/
LOCATION:Paderborn
ORGANIZER;CN="Stephan Scheifling":MAILTO:scheifling@iam-mission.de
END:VEVENT
BEGIN:VEVENT
DTSTART;VALUE=DATE:20260317
DTEND;VALUE=DATE:20260318
DTSTAMP:20260420T121437
CREATED:20260120T082842Z
LAST-MODIFIED:20260120T083014Z
UID:2694-1773705600-1773791999@www.iam-mission.de
SUMMARY:Frauen-Café in Gammertingen (Felicitas Pfeifle)
DESCRIPTION:
URL:https://www.iam-mission.de/event/frauen-cafe-in-gammertingen-felicitas-pfeifle-2/
LOCATION:Freie Gemeinde Gammertingen\, Steinbeißstraße 1\, Gammertingen\, Baden-Württemberg\, 72501\, Deutschland
END:VEVENT
BEGIN:VEVENT
DTSTART;TZID=Europe/Berlin:20260313T183000
DTEND;TZID=Europe/Berlin:20260313T220000
DTSTAMP:20260420T121437
CREATED:20260120T092007Z
LAST-MODIFIED:20260120T092007Z
UID:2731-1773426600-1773439200@www.iam-mission.de
SUMMARY:Vortrag bei Christen im Beruf - Wolfsburg (Maik Brunokowski)
DESCRIPTION:
URL:https://www.iam-mission.de/event/vortrag-bei-christen-im-beruf-wolfsburg-maik-brunokowski/
LOCATION:Wolfsburg\, Hafenstraße 4 a\, Wolfsburg\, Niedersachsen\, 38442\, Germany
END:VEVENT
BEGIN:VEVENT
DTSTART;VALUE=DATE:20260313
DTEND;VALUE=DATE:20260316
DTSTAMP:20260420T121437
CREATED:20260120T092111Z
LAST-MODIFIED:20260120T092111Z
UID:2734-1773360000-1773619199@www.iam-mission.de
SUMMARY:Jumiko-Lippe (Mark Benn)
DESCRIPTION:
URL:https://www.iam-mission.de/event/jumiko-lippe-mark-benn/
LOCATION:Jumiko-Lippe\, Anne-Frank-Str. 1\, Detmold\, NRW\, 32756
ORGANIZER;CN="Mark Benn":MAILTO:m.benn@iam-mission.de
END:VEVENT
BEGIN:VEVENT
DTSTART;VALUE=DATE:20260313
DTEND;VALUE=DATE:20260315
DTSTAMP:20260420T121437
CREATED:20260120T080452Z
LAST-MODIFIED:20260120T080452Z
UID:2669-1773360000-1773532799@www.iam-mission.de
SUMMARY:IAM-Stand auf der Jumiko-Lippe (Tobias Müller u. Team)
DESCRIPTION:
URL:https://www.iam-mission.de/event/iam-stand-auf-der-jumiko-lippe-tobias-mueller-u-team/
LOCATION:Detmold\, Anne-Frank-Str. 1\, Detmold\, NRW\, 32756\, Germany
END:VEVENT
BEGIN:VEVENT
DTSTART;TZID=Europe/Berlin:20260309T103000
DTEND;TZID=Europe/Berlin:20260309T123000
DTSTAMP:20260420T121437
CREATED:20260309T125232Z
LAST-MODIFIED:20260309T125232Z
UID:2774-1773052200-1773059400@www.iam-mission.de
SUMMARY:Gottesdienst in Sehnde (Achim Ullrich)
DESCRIPTION:
URL:https://www.iam-mission.de/event/gottesdienst-in-sehnde-achim-ullrich-2/
LOCATION:Bibel-Gemeinde Sehnde\, Zuckerfabriksweg 1\, Sehnde\, 31319
ORGANIZER;CN="Achim Ullrich":MAILTO:ullrich@iam-mission.de
END:VEVENT
BEGIN:VEVENT
DTSTART;TZID=Europe/Berlin:20260309T100000
DTEND;TZID=Europe/Berlin:20260309T123000
DTSTAMP:20260420T121437
CREATED:20260309T125355Z
LAST-MODIFIED:20260309T125355Z
UID:2776-1773050400-1773059400@www.iam-mission.de
SUMMARY:Predigtdienst in Hockenheim (Achim Ullrich)
DESCRIPTION:
URL:https://www.iam-mission.de/event/predigtdienst-in-hockenheim-achim-ullrich/
LOCATION:Thüringen
ORGANIZER;CN="Achim Ullrich":MAILTO:ullrich@iam-mission.de
END:VEVENT
BEGIN:VEVENT
DTSTART;TZID=Europe/Berlin:20260308T103000
DTEND;TZID=Europe/Berlin:20260308T133000
DTSTAMP:20260420T121437
CREATED:20260120T075758Z
LAST-MODIFIED:20260120T075758Z
UID:2663-1772965800-1772976600@www.iam-mission.de
SUMMARY:Brunch-Gottesdienst in Sehnde (Achim u. Monika Ullrich)
DESCRIPTION:
URL:https://www.iam-mission.de/event/brunch-gottesdienst-in-sehnde-achim-u-monika-ullrich/
LOCATION:Bibel-Gemeinde Sehnde\, Zuckerfabriksweg 1\, Sehnde\, 31319
ORGANIZER;CN="Achim Ullrich":MAILTO:ullrich@iam-mission.de
END:VEVENT
BEGIN:VEVENT
DTSTART;TZID=Europe/Berlin:20260308T100000
DTEND;TZID=Europe/Berlin:20260308T120000
DTSTAMP:20260420T121437
CREATED:20260120T082657Z
LAST-MODIFIED:20260120T082657Z
UID:2692-1772964000-1772971200@www.iam-mission.de
SUMMARY:Predigtdienst in EFG Gammertingen (Sieghard Pfeifle)
DESCRIPTION:
URL:https://www.iam-mission.de/event/predigtdienst-in-efg-gammertingen-sieghard-pfeifle/
LOCATION:Freie Gemeinde Gammertingen\, Steinbeißstraße 1\, Gammertingen\, Baden-Württemberg\, 72501\, Deutschland
ORGANIZER;CN="Sieghard Pfeifle":MAILTO:pfeifle@iam-mission.de
END:VEVENT
END:VCALENDAR